BEGIN:VCALENDAR
VERSION:2.0
PRODID:-//pretix//pretix.eu//
BEGIN:VTIMEZONE
TZID:Europe/Berlin
BEGIN:STANDARD
DTSTART:20001029T040000
RRULE:FREQ=YEARLY;BYDAY=-1SU;BYMONTH=10
TZNAME:CET
TZOFFSETFROM:+0200
TZOFFSETTO:+0100
END:STANDARD
BEGIN:DAYLIGHT
DTSTART:20000326T030000
RRULE:FREQ=YEARLY;BYDAY=-1SU;BYMONTH=3
TZNAME:CEST
TZOFFSETFROM:+0100
TZOFFSETTO:+0200
END:DAYLIGHT
END:VTIMEZONE
BEGIN:VEVENT
UID:pretix-rtk-rgbg-vt-veranstaltung-4768897@rtk-rgbg.vereinsticket.de
DTSTART;TZID=Europe/Berlin:20260207T193000
DTEND;TZID=Europe/Berlin:20260207T203000
DESCRIPTION:Tickets: https://rtk-rgbg.vereinsticket.de/vt-veranstaltung/476
 8897/\nVeranstalter: Regensburger Tennis-Klub von 1890 e.V.
DTSTAMP:20260425T130430Z
LOCATION:KA5PER Cocktailbar\, Hinter der Grieb\, 93047 Regensburg
SUMMARY:RTK Fasching Eintritt
END:VEVENT
END:VCALENDAR
