BEGIN:VCALENDAR
VERSION:2.0
PRODID:-//pretix//pretix.eu//
BEGIN:VTIMEZONE
TZID:Europe/Berlin
BEGIN:STANDARD
DTSTART:20001029T040000
RRULE:FREQ=YEARLY;BYDAY=-1SU;BYMONTH=10
TZNAME:CET
TZOFFSETFROM:+0200
TZOFFSETTO:+0100
END:STANDARD
BEGIN:DAYLIGHT
DTSTART:20000326T030000
RRULE:FREQ=YEARLY;BYDAY=-1SU;BYMONTH=3
TZNAME:CEST
TZOFFSETFROM:+0100
TZOFFSETTO:+0200
END:DAYLIGHT
END:VTIMEZONE
BEGIN:VEVENT
UID:pretix-rtk-rgbg-vt-veranstaltung-4636596@rtk-rgbg.vereinsticket.de
DTSTART;TZID=Europe/Berlin:20250731T153000
DTEND;TZID=Europe/Berlin:20250731T163000
DESCRIPTION:Tickets: https://rtk-rgbg.vereinsticket.de/vt-veranstaltung/463
 6596/\nVeranstalter: Regensburger Tennis-Klub von 1890 e.V.
DTSTAMP:20260426T005338Z
LOCATION:RTK Regensburg\, Weinweg 38\, 93049 Regensburg
SUMMARY:Kinder- und Jugend-Sommertreff
END:VEVENT
END:VCALENDAR
